Workbook

Sheet 勤怠表
A1: 勤 怠 表
A3: 対象 | B3: 2026 | C3: 年 | D3: 11 | E3: 月分 | F3: 締め日 | G3: 末日 | I3: 本人 | J3: 確認 | K3: 承認 | N3: =IF(G3="末日",DATE(B3,D3,1),DATE(B3,D3-1,G3+1)) -> 46327 | O3: =IF(G3="末日",DATE(B3,D3+1,0),DATE(B3,D3,G3)) -> 46356
A4: 期間 | B4: =TEXT(N3,"yyyy年m月d日")&" 〜 "&TEXT(O3,"m月d日") -> 2026年11月1日 〜 11月30日
A5: 氏名 | B5: 山田 花子 | F5: 所定/日 | G5: 0.33333333
A6: 所属 | B6: 本店 | F6: 深夜 | G6: 22:00〜5:00
A7: 社員番号 | B7: A-0123
A9: 出勤日数 | C9: うち 休日出勤 | D9: 有休 | E9: 欠勤 | F9: 総勤務時間 | H9: 残業 (1日8h超) | I9: 深夜 | J9: 休日出勤の 勤務時間 | K9: 要確認
A10: =COUNTIF($C$14:$C$44,"出勤")+COUNTIF($C$14:$C$44,"休日出勤") -> 19 | C10: =COUNTIF($C$14:$C$44,"休日出勤") -> 1 | D10: =COUNTIF($C$14:$C$44,"有休") -> 1 | E10: =COUNTIF($C$14:$C$44,"欠勤") -> 0 | F10: =SUM($G$14:$G$44) -> 6.4166667 | H10: =SUM($H$14:$H$44) -> 0.22916667 | I10: =SUM($I$14:$I$44) -> 0.0625 | J10: =SUMIF($C$14:$C$44,"休日出勤",$G$14:$G$44) -> 0.1875 | K10: =COUNTIF($K$14:$K$44,"?*") -> 1
F11: =TEXT(F10*24,"0.00")&" 時間" -> 154.00 時間 | H11: =IF(H10="","",TEXT(H10*24,"0.00")&" 時間") -> 5.50 時間 | I11: =IF(I10="","",TEXT(I10*24,"0.00")&" 時間") -> 1.50 時間 | J11: =IF(J10="","",TEXT(J10*24,"0.00")&" 時間") -> 4.50 時間
A13: 日付 | B13: 曜日 | C13: 区分 | D13: 出勤 | E13: 退勤 | F13: 休憩 | G13: 勤務時間 | H13: 残業 | I13: 深夜 | J13: 備考 | K13: 要確認
A14: =IF($N$3+ROW()-14>$O$3,"",$N$3+ROW()-14) -> 46327 | B14: =IF(A14="","",MID("日月火水木金土",WEEKDAY(A14),1)) -> 日 | C14: 休日 | G14: =IF(OR(D14="",E14=""),"",MOD(E14-D14,1)-N(F14)) | H14: =IF(OR(G14="",C14="休日出勤",N(G14)<=$G$5),"",G14-$G$5) | I14: =IF(G14="","",MAX(0,MIN(D14+MOD(E14-D14,1),5/24)-D14)+MAX(0,MIN(D14+MOD(E14-D14,1),29/24)-MAX(D14,22/24))) | K14: =IF(A14="","",IF(AND(OR(C14="出勤",C14="休日出勤"),D14=""),"出勤時刻がない",IF(AND(D14<>"",E14=""),"退勤時刻がない",IF(AND(D14<>"",C14=""),"区分が未選択",IF(AND(D14<>"",OR(C14="休日",C14="有休",C14="欠勤")),"区分と時刻が合わない",IF(AND(G14<>"",G14>8/24,N(F14)<1/24-1/86400),"休憩が1時間未満",IF(AND(G14<>"",G14>6/24,N(F14)<45/1440-1/86400),"休憩が45分未満","")))))))
A15: =IF($N$3+ROW()-14>$O$3,"",$N$3+ROW()-14) -> 46328 | B15: =IF(A15="","",MID("日月火水木金土",WEEKDAY(A15),1)) -> 月 | C15: 出勤 | D15: 0.375 | E15: 0.75 | F15: 0.041666667 | G15: =IF(OR(D15="",E15=""),"",MOD(E15-D15,1)-N(F15)) -> 0.33333333 | H15: =IF(OR(G15="",C15="休日出勤",N(G15)<=$G$5),"",G15-$G$5) | I15: =IF(G15="","",MAX(0,MIN(D15+MOD(E15-D15,1),5/24)-D15)+MAX(0,MIN(D15+MOD(E15-D15,1),29/24)-MAX(D15,22/24))) -> 0 | K15: =IF(A15="","",IF(AND(OR(C15="出勤",C15="休日出勤"),D15=""),"出勤時刻がない",IF(AND(D15<>"",E15=""),"退勤時刻がない",IF(AND(D15<>"",C15=""),"区分が未選択",IF(AND(D15<>"",OR(C15="休日",C15="有休",C15="欠勤")),"区分と時刻が合わない",IF(AND(G15<>"",G15>8/24,N(F15)<1/24-1/86400),"休憩が1時間未満",IF(AND(G15<>"",G15>6/24,N(F15)<45/1440-1/86400),"休憩が45分未満","")))))))
A16: =IF($N$3+ROW()-14>$O$3,"",$N$3+ROW()-14) -> 46329 | B16: =IF(A16="","",MID("日月火水木金土",WEEKDAY(A16),1)) -> 火 | C16: 休日 | G16: =IF(OR(D16="",E16=""),"",MOD(E16-D16,1)-N(F16)) | H16: =IF(OR(G16="",C16="休日出勤",N(G16)<=$G$5),"",G16-$G$5) | I16: =IF(G16="","",MAX(0,MIN(D16+MOD(E16-D16,1),5/24)-D16)+MAX(0,MIN(D16+MOD(E16-D16,1),29/24)-MAX(D16,22/24))) | K16: =IF(A16="","",IF(AND(OR(C16="出勤",C16="休日出勤"),D16=""),"出勤時刻がない",IF(AND(D16<>"",E16=""),"退勤時刻がない",IF(AND(D16<>"",C16=""),"区分が未選択",IF(AND(D16<>"",OR(C16="休日",C16="有休",C16="欠勤")),"区分と時刻が合わない",IF(AND(G16<>"",G16>8/24,N(F16)<1/24-1/86400),"休憩が1時間未満",IF(AND(G16<>"",G16>6/24,N(F16)<45/1440-1/86400),"休憩が45分未満","")))))))
A17: =IF($N$3+ROW()-14>$O$3,"",$N$3+ROW()-14) -> 46330 | B17: =IF(A17="","",MID("日月火水木金土",WEEKDAY(A17),1)) -> 水 | C17: 出勤 | D17: 0.375 | E17: 0.75 | F17: 0.041666667 | G17: =IF(OR(D17="",E17=""),"",MOD(E17-D17,1)-N(F17)) -> 0.33333333 | H17: =IF(OR(G17="",C17="休日出勤",N(G17)<=$G$5),"",G17-$G$5) | I17: =IF(G17="","",MAX(0,MIN(D17+MOD(E17-D17,1),5/24)-D17)+MAX(0,MIN(D17+MOD(E17-D17,1),29/24)-MAX(D17,22/24))) -> 0 | K17: =IF(A17="","",IF(AND(OR(C17="出勤",C17="休日出勤"),D17=""),"出勤時刻がない",IF(AND(D17<>"",E17=""),"退勤時刻がない",IF(AND(D17<>"",C17=""),"区分が未選択",IF(AND(D17<>"",OR(C17="休日",C17="有休",C17="欠勤")),"区分と時刻が合わない",IF(AND(G17<>"",G17>8/24,N(F17)<1/24-1/86400),"休憩が1時間未満",IF(AND(G17<>"",G17>6/24,N(F17)<45/1440-1/86400),"休憩が45分未満","")))))))
A18: =IF($N$3+ROW()-14>$O$3,"",$N$3+ROW()-14) -> 46331 | B18: =IF(A18="","",MID("日月火水木金土",WEEKDAY(A18),1)) -> 木 | C18: 出勤 | D18: 0.375 | E18: 0.75 | F18: 0.041666667 | G18: =IF(OR(D18="",E18=""),"",MOD(E18-D18,1)-N(F18)) -> 0.33333333 | H18: =IF(OR(G18="",C18="休日出勤",N(G18)<=$G$5),"",G18-$G$5) | I18: =IF(G18="","",MAX(0,MIN(D18+MOD(E18-D18,1),5/24)-D18)+MAX(0,MIN(D18+MOD(E18-D18,1),29/24)-MAX(D18,22/24))) -> 0 | K18: =IF(A18="","",IF(AND(OR(C18="出勤",C18="休日出勤"),D18=""),"出勤時刻がない",IF(AND(D18<>"",E18=""),"退勤時刻がない",IF(AND(D18<>"",C18=""),"区分が未選択",IF(AND(D18<>"",OR(C18="休日",C18="有休",C18="欠勤")),"区分と時刻が合わない",IF(AND(G18<>"",G18>8/24,N(F18)<1/24-1/86400),"休憩が1時間未満",IF(AND(G18<>"",G18>6/24,N(F18)<45/1440-1/86400),"休憩が45分未満","")))))))
A19: =IF($N$3+ROW()-14>$O$3,"",$N$3+ROW()-14) -> 46332 | B19: =IF(A19="","",MID("日月火水木金土",WEEKDAY(A19),1)) -> 金 | C19: 出勤 | D19: 0.375 | E19: 0.75 | F19: 0.041666667 | G19: =IF(OR(D19="",E19=""),"",MOD(E19-D19,1)-N(F19)) -> 0.33333333 | H19: =IF(OR(G19="",C19="休日出勤",N(G19)<=$G$5),"",G19-$G$5) | I19: =IF(G19="","",MAX(0,MIN(D19+MOD(E19-D19,1),5/24)-D19)+MAX(0,MIN(D19+MOD(E19-D19,1),29/24)-MAX(D19,22/24))) -> 0 | K19: =IF(A19="","",IF(AND(OR(C19="出勤",C19="休日出勤"),D19=""),"出勤時刻がない",IF(AND(D19<>"",E19=""),"退勤時刻がない",IF(AND(D19<>"",C19=""),"区分が未選択",IF(AND(D19<>"",OR(C19="休日",C19="有休",C19="欠勤")),"区分と時刻が合わない",IF(AND(G19<>"",G19>8/24,N(F19)<1/24-1/86400),"休憩が1時間未満",IF(AND(G19<>"",G19>6/24,N(F19)<45/1440-1/86400),"休憩が45分未満","")))))))
A20: =IF($N$3+ROW()-14>$O$3,"",$N$3+ROW()-14) -> 46333 | B20: =IF(A20="","",MID("日月火水木金土",WEEKDAY(A20),1)) -> 土 | C20: 休日 | G20: =IF(OR(D20="",E20=""),"",MOD(E20-D20,1)-N(F20)) | H20: =IF(OR(G20="",C20="休日出勤",N(G20)<=$G$5),"",G20-$G$5) | I20: =IF(G20="","",MAX(0,MIN(D20+MOD(E20-D20,1),5/24)-D20)+MAX(0,MIN(D20+MOD(E20-D20,1),29/24)-MAX(D20,22/24))) | K20: =IF(A20="","",IF(AND(OR(C20="出勤",C20="休日出勤"),D20=""),"出勤時刻がない",IF(AND(D20<>"",E20=""),"退勤時刻がない",IF(AND(D20<>"",C20=""),"区分が未選択",IF(AND(D20<>"",OR(C20="休日",C20="有休",C20="欠勤")),"区分と時刻が合わない",IF(AND(G20<>"",G20>8/24,N(F20)<1/24-1/86400),"休憩が1時間未満",IF(AND(G20<>"",G20>6/24,N(F20)<45/1440-1/86400),"休憩が45分未満","")))))))
A21: =IF($N$3+ROW()-14>$O$3,"",$N$3+ROW()-14) -> 46334 | B21: =IF(A21="","",MID("日月火水木金土",WEEKDAY(A21),1)) -> 日 | C21: 休日 | G21: =IF(OR(D21="",E21=""),"",MOD(E21-D21,1)-N(F21)) | H21: =IF(OR(G21="",C21="休日出勤",N(G21)<=$G$5),"",G21-$G$5) | I21: =IF(G21="","",MAX(0,MIN(D21+MOD(E21-D21,1),5/24)-D21)+MAX(0,MIN(D21+MOD(E21-D21,1),29/24)-MAX(D21,22/24))) | K21: =IF(A21="","",IF(AND(OR(C21="出勤",C21="休日出勤"),D21=""),"出勤時刻がない",IF(AND(D21<>"",E21=""),"退勤時刻がない",IF(AND(D21<>"",C21=""),"区分が未選択",IF(AND(D21<>"",OR(C21="休日",C21="有休",C21="欠勤")),"区分と時刻が合わない",IF(AND(G21<>"",G21>8/24,N(F21)<1/24-1/86400),"休憩が1時間未満",IF(AND(G21<>"",G21>6/24,N(F21)<45/1440-1/86400),"休憩が45分未満","")))))))
A22: =IF($N$3+ROW()-14>$O$3,"",$N$3+ROW()-14) -> 46335 | B22: =IF(A22="","",MID("日月火水木金土",WEEKDAY(A22),1)) -> 月 | C22: 出勤 | D22: 0.375 | E22: 0.75 | F22: 0.041666667 | G22: =IF(OR(D22="",E22=""),"",MOD(E22-D22,1)-N(F22)) -> 0.33333333 | H22: =IF(OR(G22="",C22="休日出勤",N(G22)<=$G$5),"",G22-$G$5) | I22: =IF(G22="","",MAX(0,MIN(D22+MOD(E22-D22,1),5/24)-D22)+MAX(0,MIN(D22+MOD(E22-D22,1),29/24)-MAX(D22,22/24))) -> 0 | K22: =IF(A22="","",IF(AND(OR(C22="出勤",C22="休日出勤"),D22=""),"出勤時刻がない",IF(AND(D22<>"",E22=""),"退勤時刻がない",IF(AND(D22<>"",C22=""),"区分が未選択",IF(AND(D22<>"",OR(C22="休日",C22="有休",C22="欠勤")),"区分と時刻が合わない",IF(AND(G22<>"",G22>8/24,N(F22)<1/24-1/86400),"休憩が1時間未満",IF(AND(G22<>"",G22>6/24,N(F22)<45/1440-1/86400),"休憩が45分未満","")))))))
A23: =IF($N$3+ROW()-14>$O$3,"",$N$3+ROW()-14) -> 46336 | B23: =IF(A23="","",MID("日月火水木金土",WEEKDAY(A23),1)) -> 火 | C23: 出勤 | D23: 0.375 | E23: 0.89583333 | F23: 0.041666667 | G23: =IF(OR(D23="",E23=""),"",MOD(E23-D23,1)-N(F23)) -> 0.47916667 | H23: =IF(OR(G23="",C23="休日出勤",N(G23)<=$G$5),"",G23-$G$5) -> 0.14583333 | I23: =IF(G23="","",MAX(0,MIN(D23+MOD(E23-D23,1),5/24)-D23)+MAX(0,MIN(D23+MOD(E23-D23,1),29/24)-MAX(D23,22/24))) -> 0 | J23: 納期対応 | K23: =IF(A23="","",IF(AND(OR(C23="出勤",C23="休日出勤"),D23=""),"出勤時刻がない",IF(AND(D23<>"",E23=""),"退勤時刻がない",IF(AND(D23<>"",C23=""),"区分が未選択",IF(AND(D23<>"",OR(C23="休日",C23="有休",C23="欠勤")),"区分と時刻が合わない",IF(AND(G23<>"",G23>8/24,N(F23)<1/24-1/86400),"休憩が1時間未満",IF(AND(G23<>"",G23>6/24,N(F23)<45/1440-1/86400),"休憩が45分未満","")))))))
A24: =IF($N$3+ROW()-14>$O$3,"",$N$3+ROW()-14) -> 46337 | B24: =IF(A24="","",MID("日月火水木金土",WEEKDAY(A24),1)) -> 水 | C24: 出勤 | D24: 0.375 | E24: 0.75 | F24: 0.041666667 | G24: =IF(OR(D24="",E24=""),"",MOD(E24-D24,1)-N(F24)) -> 0.33333333 | H24: =IF(OR(G24="",C24="休日出勤",N(G24)<=$G$5),"",G24-$G$5) | I24: =IF(G24="","",MAX(0,MIN(D24+MOD(E24-D24,1),5/24)-D24)+MAX(0,MIN(D24+MOD(E24-D24,1),29/24)-MAX(D24,22/24))) -> 0 | K24: =IF(A24="","",IF(AND(OR(C24="出勤",C24="休日出勤"),D24=""),"出勤時刻がない",IF(AND(D24<>"",E24=""),"退勤時刻がない",IF(AND(D24<>"",C24=""),"区分が未選択",IF(AND(D24<>"",OR(C24="休日",C24="有休",C24="欠勤")),"区分と時刻が合わない",IF(AND(G24<>"",G24>8/24,N(F24)<1/24-1/86400),"休憩が1時間未満",IF(AND(G24<>"",G24>6/24,N(F24)<45/1440-1/86400),"休憩が45分未満","")))))))
A25: =IF($N$3+ROW()-14>$O$3,"",$N$3+ROW()-14) -> 46338 | B25: =IF(A25="","",MID("日月火水木金土",WEEKDAY(A25),1)) -> 木 | C25: 出勤 | D25: 0.54166667 | E25: 0.97916667 | F25: 0.041666667 | G25: =IF(OR(D25="",E25=""),"",MOD(E25-D25,1)-N(F25)) -> 0.39583333 | H25: =IF(OR(G25="",C25="休日出勤",N(G25)<=$G$5),"",G25-$G$5) -> 0.0625 | I25: =IF(G25="","",MAX(0,MIN(D25+MOD(E25-D25,1),5/24)-D25)+MAX(0,MIN(D25+MOD(E25-D25,1),29/24)-MAX(D25,22/24))) -> 0.0625 | J25: 遅番 | K25: =IF(A25="","",IF(AND(OR(C25="出勤",C25="休日出勤"),D25=""),"出勤時刻がない",IF(AND(D25<>"",E25=""),"退勤時刻がない",IF(AND(D25<>"",C25=""),"区分が未選択",IF(AND(D25<>"",OR(C25="休日",C25="有休",C25="欠勤")),"区分と時刻が合わない",IF(AND(G25<>"",G25>8/24,N(F25)<1/24-1/86400),"休憩が1時間未満",IF(AND(G25<>"",G25>6/24,N(F25)<45/1440-1/86400),"休憩が45分未満","")))))))
A26: =IF($N$3+ROW()-14>$O$3,"",$N$3+ROW()-14) -> 46339 | B26: =IF(A26="","",MID("日月火水木金土",WEEKDAY(A26),1)) -> 金 | C26: 出勤 | D26: 0.375 | E26: 0.75 | F26: 0.041666667 | G26: =IF(OR(D26="",E26=""),"",MOD(E26-D26,1)-N(F26)) -> 0.33333333 | H26: =IF(OR(G26="",C26="休日出勤",N(G26)<=$G$5),"",G26-$G$5) | I26: =IF(G26="","",MAX(0,MIN(D26+MOD(E26-D26,1),5/24)-D26)+MAX(0,MIN(D26+MOD(E26-D26,1),29/24)-MAX(D26,22/24))) -> 0 | K26: =IF(A26="","",IF(AND(OR(C26="出勤",C26="休日出勤"),D26=""),"出勤時刻がない",IF(AND(D26<>"",E26=""),"退勤時刻がない",IF(AND(D26<>"",C26=""),"区分が未選択",IF(AND(D26<>"",OR(C26="休日",C26="有休",C26="欠勤")),"区分と時刻が合わない",IF(AND(G26<>"",G26>8/24,N(F26)<1/24-1/86400),"休憩が1時間未満",IF(AND(G26<>"",G26>6/24,N(F26)<45/1440-1/86400),"休憩が45分未満","")))))))
A27: =IF($N$3+ROW()-14>$O$3,"",$N$3+ROW()-14) -> 46340 | B27: =IF(A27="","",MID("日月火水木金土",WEEKDAY(A27),1)) -> 土 | C27: 休日 | G27: =IF(OR(D27="",E27=""),"",MOD(E27-D27,1)-N(F27)) | H27: =IF(OR(G27="",C27="休日出勤",N(G27)<=$G$5),"",G27-$G$5) | I27: =IF(G27="","",MAX(0,MIN(D27+MOD(E27-D27,1),5/24)-D27)+MAX(0,MIN(D27+MOD(E27-D27,1),29/24)-MAX(D27,22/24))) | K27: =IF(A27="","",IF(AND(OR(C27="出勤",C27="休日出勤"),D27=""),"出勤時刻がない",IF(AND(D27<>"",E27=""),"退勤時刻がない",IF(AND(D27<>"",C27=""),"区分が未選択",IF(AND(D27<>"",OR(C27="休日",C27="有休",C27="欠勤")),"区分と時刻が合わない",IF(AND(G27<>"",G27>8/24,N(F27)<1/24-1/86400),"休憩が1時間未満",IF(AND(G27<>"",G27>6/24,N(F27)<45/1440-1/86400),"休憩が45分未満","")))))))
A28: =IF($N$3+ROW()-14>$O$3,"",$N$3+ROW()-14) -> 46341 | B28: =IF(A28="","",MID("日月火水木金土",WEEKDAY(A28),1)) -> 日 | C28: 休日 | G28: =IF(OR(D28="",E28=""),"",MOD(E28-D28,1)-N(F28)) | H28: =IF(OR(G28="",C28="休日出勤",N(G28)<=$G$5),"",G28-$G$5) | I28: =IF(G28="","",MAX(0,MIN(D28+MOD(E28-D28,1),5/24)-D28)+MAX(0,MIN(D28+MOD(E28-D28,1),29/24)-MAX(D28,22/24))) | K28: =IF(A28="","",IF(AND(OR(C28="出勤",C28="休日出勤"),D28=""),"出勤時刻がない",IF(AND(D28<>"",E28=""),"退勤時刻がない",IF(AND(D28<>"",C28=""),"区分が未選択",IF(AND(D28<>"",OR(C28="休日",C28="有休",C28="欠勤")),"区分と時刻が合わない",IF(AND(G28<>"",G28>8/24,N(F28)<1/24-1/86400),"休憩が1時間未満",IF(AND(G28<>"",G28>6/24,N(F28)<45/1440-1/86400),"休憩が45分未満","")))))))
A29: =IF($N$3+ROW()-14>$O$3,"",$N$3+ROW()-14) -> 46342 | B29: =IF(A29="","",MID("日月火水木金土",WEEKDAY(A29),1)) -> 月 | C29: 出勤 | D29: 0.375 | E29: 0.75 | F29: 0.041666667 | G29: =IF(OR(D29="",E29=""),"",MOD(E29-D29,1)-N(F29)) -> 0.33333333 | H29: =IF(OR(G29="",C29="休日出勤",N(G29)<=$G$5),"",G29-$G$5) | I29: =IF(G29="","",MAX(0,MIN(D29+MOD(E29-D29,1),5/24)-D29)+MAX(0,MIN(D29+MOD(E29-D29,1),29/24)-MAX(D29,22/24))) -> 0 | K29: =IF(A29="","",IF(AND(OR(C29="出勤",C29="休日出勤"),D29=""),"出勤時刻がない",IF(AND(D29<>"",E29=""),"退勤時刻がない",IF(AND(D29<>"",C29=""),"区分が未選択",IF(AND(D29<>"",OR(C29="休日",C29="有休",C29="欠勤")),"区分と時刻が合わない",IF(AND(G29<>"",G29>8/24,N(F29)<1/24-1/86400),"休憩が1時間未満",IF(AND(G29<>"",G29>6/24,N(F29)<45/1440-1/86400),"休憩が45分未満","")))))))
A30: =IF($N$3+ROW()-14>$O$3,"",$N$3+ROW()-14) -> 46343 | B30: =IF(A30="","",MID("日月火水木金土",WEEKDAY(A30),1)) -> 火 | C30: 出勤 | D30: 0.375 | E30: 0.75 | F30: 0.041666667 | G30: =IF(OR(D30="",E30=""),"",MOD(E30-D30,1)-N(F30)) -> 0.33333333 | H30: =IF(OR(G30="",C30="休日出勤",N(G30)<=$G$5),"",G30-$G$5) | I30: =IF(G30="","",MAX(0,MIN(D30+MOD(E30-D30,1),5/24)-D30)+MAX(0,MIN(D30+MOD(E30-D30,1),29/24)-MAX(D30,22/24))) -> 0 | K30: =IF(A30="","",IF(AND(OR(C30="出勤",C30="休日出勤"),D30=""),"出勤時刻がない",IF(AND(D30<>"",E30=""),"退勤時刻がない",IF(AND(D30<>"",C30=""),"区分が未選択",IF(AND(D30<>"",OR(C30="休日",C30="有休",C30="欠勤")),"区分と時刻が合わない",IF(AND(G30<>"",G30>8/24,N(F30)<1/24-1/86400),"休憩が1時間未満",IF(AND(G30<>"",G30>6/24,N(F30)<45/1440-1/86400),"休憩が45分未満","")))))))
A31: =IF($N$3+ROW()-14>$O$3,"",$N$3+ROW()-14) -> 46344 | B31: =IF(A31="","",MID("日月火水木金土",WEEKDAY(A31),1)) -> 水 | C31: 有休 | G31: =IF(OR(D31="",E31=""),"",MOD(E31-D31,1)-N(F31)) | H31: =IF(OR(G31="",C31="休日出勤",N(G31)<=$G$5),"",G31-$G$5) | I31: =IF(G31="","",MAX(0,MIN(D31+MOD(E31-D31,1),5/24)-D31)+MAX(0,MIN(D31+MOD(E31-D31,1),29/24)-MAX(D31,22/24))) | K31: =IF(A31="","",IF(AND(OR(C31="出勤",C31="休日出勤"),D31=""),"出勤時刻がない",IF(AND(D31<>"",E31=""),"退勤時刻がない",IF(AND(D31<>"",C31=""),"区分が未選択",IF(AND(D31<>"",OR(C31="休日",C31="有休",C31="欠勤")),"区分と時刻が合わない",IF(AND(G31<>"",G31>8/24,N(F31)<1/24-1/86400),"休憩が1時間未満",IF(AND(G31<>"",G31>6/24,N(F31)<45/1440-1/86400),"休憩が45分未満","")))))))
A32: =IF($N$3+ROW()-14>$O$3,"",$N$3+ROW()-14) -> 46345 | B32: =IF(A32="","",MID("日月火水木金土",WEEKDAY(A32),1)) -> 木 | C32: 出勤 | D32: 0.375 | E32: 0.75 | F32: 0.041666667 | G32: =IF(OR(D32="",E32=""),"",MOD(E32-D32,1)-N(F32)) -> 0.33333333 | H32: =IF(OR(G32="",C32="休日出勤",N(G32)<=$G$5),"",G32-$G$5) | I32: =IF(G32="","",MAX(0,MIN(D32+MOD(E32-D32,1),5/24)-D32)+MAX(0,MIN(D32+MOD(E32-D32,1),29/24)-MAX(D32,22/24))) -> 0 | K32: =IF(A32="","",IF(AND(OR(C32="出勤",C32="休日出勤"),D32=""),"出勤時刻がない",IF(AND(D32<>"",E32=""),"退勤時刻がない",IF(AND(D32<>"",C32=""),"区分が未選択",IF(AND(D32<>"",OR(C32="休日",C32="有休",C32="欠勤")),"区分と時刻が合わない",IF(AND(G32<>"",G32>8/24,N(F32)<1/24-1/86400),"休憩が1時間未満",IF(AND(G32<>"",G32>6/24,N(F32)<45/1440-1/86400),"休憩が45分未満","")))))))
A33: =IF($N$3+ROW()-14>$O$3,"",$N$3+ROW()-14) -> 46346 | B33: =IF(A33="","",MID("日月火水木金土",WEEKDAY(A33),1)) -> 金 | C33: 出勤 | D33: 0.375 | E33: 0.75 | F33: 0.041666667 | G33: =IF(OR(D33="",E33=""),"",MOD(E33-D33,1)-N(F33)) -> 0.33333333 | H33: =IF(OR(G33="",C33="休日出勤",N(G33)<=$G$5),"",G33-$G$5) | I33: =IF(G33="","",MAX(0,MIN(D33+MOD(E33-D33,1),5/24)-D33)+MAX(0,MIN(D33+MOD(E33-D33,1),29/24)-MAX(D33,22/24))) -> 0 | K33: =IF(A33="","",IF(AND(OR(C33="出勤",C33="休日出勤"),D33=""),"出勤時刻がない",IF(AND(D33<>"",E33=""),"退勤時刻がない",IF(AND(D33<>"",C33=""),"区分が未選択",IF(AND(D33<>"",OR(C33="休日",C33="有休",C33="欠勤")),"区分と時刻が合わない",IF(AND(G33<>"",G33>8/24,N(F33)<1/24-1/86400),"休憩が1時間未満",IF(AND(G33<>"",G33>6/24,N(F33)<45/1440-1/86400),"休憩が45分未満","")))))))
A34: =IF($N$3+ROW()-14>$O$3,"",$N$3+ROW()-14) -> 46347 | B34: =IF(A34="","",MID("日月火水木金土",WEEKDAY(A34),1)) -> 土 | C34: 休日出勤 | D34: 0.41666667 | E34: 0.625 | F34: 0.020833333 | G34: =IF(OR(D34="",E34=""),"",MOD(E34-D34,1)-N(F34)) -> 0.1875 | H34: =IF(OR(G34="",C34="休日出勤",N(G34)<=$G$5),"",G34-$G$5) | I34: =IF(G34="","",MAX(0,MIN(D34+MOD(E34-D34,1),5/24)-D34)+MAX(0,MIN(D34+MOD(E34-D34,1),29/24)-MAX(D34,22/24))) -> 0 | J34: 棚卸し | K34: =IF(A34="","",IF(AND(OR(C34="出勤",C34="休日出勤"),D34=""),"出勤時刻がない",IF(AND(D34<>"",E34=""),"退勤時刻がない",IF(AND(D34<>"",C34=""),"区分が未選択",IF(AND(D34<>"",OR(C34="休日",C34="有休",C34="欠勤")),"区分と時刻が合わない",IF(AND(G34<>"",G34>8/24,N(F34)<1/24-1/86400),"休憩が1時間未満",IF(AND(G34<>"",G34>6/24,N(F34)<45/1440-1/86400),"休憩が45分未満","")))))))
A35: =IF($N$3+ROW()-14>$O$3,"",$N$3+ROW()-14) -> 46348 | B35: =IF(A35="","",MID("日月火水木金土",WEEKDAY(A35),1)) -> 日 | C35: 休日 | G35: =IF(OR(D35="",E35=""),"",MOD(E35-D35,1)-N(F35)) | H35: =IF(OR(G35="",C35="休日出勤",N(G35)<=$G$5),"",G35-$G$5) | I35: =IF(G35="","",MAX(0,MIN(D35+MOD(E35-D35,1),5/24)-D35)+MAX(0,MIN(D35+MOD(E35-D35,1),29/24)-MAX(D35,22/24))) | K35: =IF(A35="","",IF(AND(OR(C35="出勤",C35="休日出勤"),D35=""),"出勤時刻がない",IF(AND(D35<>"",E35=""),"退勤時刻がない",IF(AND(D35<>"",C35=""),"区分が未選択",IF(AND(D35<>"",OR(C35="休日",C35="有休",C35="欠勤")),"区分と時刻が合わない",IF(AND(G35<>"",G35>8/24,N(F35)<1/24-1/86400),"休憩が1時間未満",IF(AND(G35<>"",G35>6/24,N(F35)<45/1440-1/86400),"休憩が45分未満","")))))))
A36: =IF($N$3+ROW()-14>$O$3,"",$N$3+ROW()-14) -> 46349 | B36: =IF(A36="","",MID("日月火水木金土",WEEKDAY(A36),1)) -> 月 | C36: 休日 | G36: =IF(OR(D36="",E36=""),"",MOD(E36-D36,1)-N(F36)) | H36: =IF(OR(G36="",C36="休日出勤",N(G36)<=$G$5),"",G36-$G$5) | I36: =IF(G36="","",MAX(0,MIN(D36+MOD(E36-D36,1),5/24)-D36)+MAX(0,MIN(D36+MOD(E36-D36,1),29/24)-MAX(D36,22/24))) | K36: =IF(A36="","",IF(AND(OR(C36="出勤",C36="休日出勤"),D36=""),"出勤時刻がない",IF(AND(D36<>"",E36=""),"退勤時刻がない",IF(AND(D36<>"",C36=""),"区分が未選択",IF(AND(D36<>"",OR(C36="休日",C36="有休",C36="欠勤")),"区分と時刻が合わない",IF(AND(G36<>"",G36>8/24,N(F36)<1/24-1/86400),"休憩が1時間未満",IF(AND(G36<>"",G36>6/24,N(F36)<45/1440-1/86400),"休憩が45分未満","")))))))
A37: =IF($N$3+ROW()-14>$O$3,"",$N$3+ROW()-14) -> 46350 | B37: =IF(A37="","",MID("日月火水木金土",WEEKDAY(A37),1)) -> 火 | C37: 出勤 | D37: 0.375 | E37: 0.75 | F37: 0.041666667 | G37: =IF(OR(D37="",E37=""),"",MOD(E37-D37,1)-N(F37)) -> 0.33333333 | H37: =IF(OR(G37="",C37="休日出勤",N(G37)<=$G$5),"",G37-$G$5) | I37: =IF(G37="","",MAX(0,MIN(D37+MOD(E37-D37,1),5/24)-D37)+MAX(0,MIN(D37+MOD(E37-D37,1),29/24)-MAX(D37,22/24))) -> 0 | K37: =IF(A37="","",IF(AND(OR(C37="出勤",C37="休日出勤"),D37=""),"出勤時刻がない",IF(AND(D37<>"",E37=""),"退勤時刻がない",IF(AND(D37<>"",C37=""),"区分が未選択",IF(AND(D37<>"",OR(C37="休日",C37="有休",C37="欠勤")),"区分と時刻が合わない",IF(AND(G37<>"",G37>8/24,N(F37)<1/24-1/86400),"休憩が1時間未満",IF(AND(G37<>"",G37>6/24,N(F37)<45/1440-1/86400),"休憩が45分未満","")))))))
A38: =IF($N$3+ROW()-14>$O$3,"",$N$3+ROW()-14) -> 46351 | B38: =IF(A38="","",MID("日月火水木金土",WEEKDAY(A38),1)) -> 水 | C38: 出勤 | D38: 0.375 | E38: 0.75 | F38: 0.041666667 | G38: =IF(OR(D38="",E38=""),"",MOD(E38-D38,1)-N(F38)) -> 0.33333333 | H38: =IF(OR(G38="",C38="休日出勤",N(G38)<=$G$5),"",G38-$G$5) | I38: =IF(G38="","",MAX(0,MIN(D38+MOD(E38-D38,1),5/24)-D38)+MAX(0,MIN(D38+MOD(E38-D38,1),29/24)-MAX(D38,22/24))) -> 0 | K38: =IF(A38="","",IF(AND(OR(C38="出勤",C38="休日出勤"),D38=""),"出勤時刻がない",IF(AND(D38<>"",E38=""),"退勤時刻がない",IF(AND(D38<>"",C38=""),"区分が未選択",IF(AND(D38<>"",OR(C38="休日",C38="有休",C38="欠勤")),"区分と時刻が合わない",IF(AND(G38<>"",G38>8/24,N(F38)<1/24-1/86400),"休憩が1時間未満",IF(AND(G38<>"",G38>6/24,N(F38)<45/1440-1/86400),"休憩が45分未満","")))))))
A39: =IF($N$3+ROW()-14>$O$3,"",$N$3+ROW()-14) -> 46352 | B39: =IF(A39="","",MID("日月火水木金土",WEEKDAY(A39),1)) -> 木 | C39: 出勤 | D39: 0.375 | E39: 0.75 | F39: 0.020833333 | G39: =IF(OR(D39="",E39=""),"",MOD(E39-D39,1)-N(F39)) -> 0.35416667 | H39: =IF(OR(G39="",C39="休日出勤",N(G39)<=$G$5),"",G39-$G$5) -> 0.020833333 | I39: =IF(G39="","",MAX(0,MIN(D39+MOD(E39-D39,1),5/24)-D39)+MAX(0,MIN(D39+MOD(E39-D39,1),29/24)-MAX(D39,22/24))) -> 0 | K39: =IF(A39="","",IF(AND(OR(C39="出勤",C39="休日出勤"),D39=""),"出勤時刻がない",IF(AND(D39<>"",E39=""),"退勤時刻がない",IF(AND(D39<>"",C39=""),"区分が未選択",IF(AND(D39<>"",OR(C39="休日",C39="有休",C39="欠勤")),"区分と時刻が合わない",IF(AND(G39<>"",G39>8/24,N(F39)<1/24-1/86400),"休憩が1時間未満",IF(AND(G39<>"",G39>6/24,N(F39)<45/1440-1/86400),"休憩が45分未満",""))))))) -> 休憩が1時間未満
A40: =IF($N$3+ROW()-14>$O$3,"",$N$3+ROW()-14) -> 46353 | B40: =IF(A40="","",MID("日月火水木金土",WEEKDAY(A40),1)) -> 金 | C40: 出勤 | D40: 0.375 | E40: 0.75 | F40: 0.041666667 | G40: =IF(OR(D40="",E40=""),"",MOD(E40-D40,1)-N(F40)) -> 0.33333333 | H40: =IF(OR(G40="",C40="休日出勤",N(G40)<=$G$5),"",G40-$G$5) | I40: =IF(G40="","",MAX(0,MIN(D40+MOD(E40-D40,1),5/24)-D40)+MAX(0,MIN(D40+MOD(E40-D40,1),29/24)-MAX(D40,22/24))) -> 0 | K40: =IF(A40="","",IF(AND(OR(C40="出勤",C40="休日出勤"),D40=""),"出勤時刻がない",IF(AND(D40<>"",E40=""),"退勤時刻がない",IF(AND(D40<>"",C40=""),"区分が未選択",IF(AND(D40<>"",OR(C40="休日",C40="有休",C40="欠勤")),"区分と時刻が合わない",IF(AND(G40<>"",G40>8/24,N(F40)<1/24-1/86400),"休憩が1時間未満",IF(AND(G40<>"",G40>6/24,N(F40)<45/1440-1/86400),"休憩が45分未満","")))))))
A41: =IF($N$3+ROW()-14>$O$3,"",$N$3+ROW()-14) -> 46354 | B41: =IF(A41="","",MID("日月火水木金土",WEEKDAY(A41),1)) -> 土 | C41: 休日 | G41: =IF(OR(D41="",E41=""),"",MOD(E41-D41,1)-N(F41)) | H41: =IF(OR(G41="",C41="休日出勤",N(G41)<=$G$5),"",G41-$G$5) | I41: =IF(G41="","",MAX(0,MIN(D41+MOD(E41-D41,1),5/24)-D41)+MAX(0,MIN(D41+MOD(E41-D41,1),29/24)-MAX(D41,22/24))) | K41: =IF(A41="","",IF(AND(OR(C41="出勤",C41="休日出勤"),D41=""),"出勤時刻がない",IF(AND(D41<>"",E41=""),"退勤時刻がない",IF(AND(D41<>"",C41=""),"区分が未選択",IF(AND(D41<>"",OR(C41="休日",C41="有休",C41="欠勤")),"区分と時刻が合わない",IF(AND(G41<>"",G41>8/24,N(F41)<1/24-1/86400),"休憩が1時間未満",IF(AND(G41<>"",G41>6/24,N(F41)<45/1440-1/86400),"休憩が45分未満","")))))))
A42: =IF($N$3+ROW()-14>$O$3,"",$N$3+ROW()-14) -> 46355 | B42: =IF(A42="","",MID("日月火水木金土",WEEKDAY(A42),1)) -> 日 | C42: 休日 | G42: =IF(OR(D42="",E42=""),"",MOD(E42-D42,1)-N(F42)) | H42: =IF(OR(G42="",C42="休日出勤",N(G42)<=$G$5),"",G42-$G$5) | I42: =IF(G42="","",MAX(0,MIN(D42+MOD(E42-D42,1),5/24)-D42)+MAX(0,MIN(D42+MOD(E42-D42,1),29/24)-MAX(D42,22/24))) | K42: =IF(A42="","",IF(AND(OR(C42="出勤",C42="休日出勤"),D42=""),"出勤時刻がない",IF(AND(D42<>"",E42=""),"退勤時刻がない",IF(AND(D42<>"",C42=""),"区分が未選択",IF(AND(D42<>"",OR(C42="休日",C42="有休",C42="欠勤")),"区分と時刻が合わない",IF(AND(G42<>"",G42>8/24,N(F42)<1/24-1/86400),"休憩が1時間未満",IF(AND(G42<>"",G42>6/24,N(F42)<45/1440-1/86400),"休憩が45分未満","")))))))
A43: =IF($N$3+ROW()-14>$O$3,"",$N$3+ROW()-14) -> 46356 | B43: =IF(A43="","",MID("日月火水木金土",WEEKDAY(A43),1)) -> 月 | C43: 出勤 | D43: 0.375 | E43: 0.75 | F43: 0.041666667 | G43: =IF(OR(D43="",E43=""),"",MOD(E43-D43,1)-N(F43)) -> 0.33333333 | H43: =IF(OR(G43="",C43="休日出勤",N(G43)<=$G$5),"",G43-$G$5) | I43: =IF(G43="","",MAX(0,MIN(D43+MOD(E43-D43,1),5/24)-D43)+MAX(0,MIN(D43+MOD(E43-D43,1),29/24)-MAX(D43,22/24))) -> 0 | K43: =IF(A43="","",IF(AND(OR(C43="出勤",C43="休日出勤"),D43=""),"出勤時刻がない",IF(AND(D43<>"",E43=""),"退勤時刻がない",IF(AND(D43<>"",C43=""),"区分が未選択",IF(AND(D43<>"",OR(C43="休日",C43="有休",C43="欠勤")),"区分と時刻が合わない",IF(AND(G43<>"",G43>8/24,N(F43)<1/24-1/86400),"休憩が1時間未満",IF(AND(G43<>"",G43>6/24,N(F43)<45/1440-1/86400),"休憩が45分未満","")))))))
A44: =IF($N$3+ROW()-14>$O$3,"",$N$3+ROW()-14) | B44: =IF(A44="","",MID("日月火水木金土",WEEKDAY(A44),1)) | G44: =IF(OR(D44="",E44=""),"",MOD(E44-D44,1)-N(F44)) | H44: =IF(OR(G44="",C44="休日出勤",N(G44)<=$G$5),"",G44-$G$5) | I44: =IF(G44="","",MAX(0,MIN(D44+MOD(E44-D44,1),5/24)-D44)+MAX(0,MIN(D44+MOD(E44-D44,1),29/24)-MAX(D44,22/24))) | K44: =IF(A44="","",IF(AND(OR(C44="出勤",C44="休日出勤"),D44=""),"出勤時刻がない",IF(AND(D44<>"",E44=""),"退勤時刻がない",IF(AND(D44<>"",C44=""),"区分が未選択",IF(AND(D44<>"",OR(C44="休日",C44="有休",C44="欠勤")),"区分と時刻が合わない",IF(AND(G44<>"",G44>8/24,N(F44)<1/24-1/86400),"休憩が1時間未満",IF(AND(G44<>"",G44>6/24,N(F44)<45/1440-1/86400),"休憩が45分未満","")))))))
A46: ※ 残業は「1日の勤務時間が所定時間を超えた分」です。週40時間を超えた分は自動で計算していません。
A47: ※ 深夜（22:00〜5:00）の時間は、休憩を差し引かずに計算しています。深夜に休憩を取った日は備考に書いてください。
A48: ※ 祝日は自動で色が付きません。区分を「休日」にしてください。

Sheet 集計用
A1: 集計用（受け取った人がまとめるためのシート）
A2: 下の2行をコピーして、全員分の一覧に「値のみ貼り付け」すると、1人1行で並べられます。時間は小数（例：1時間30分 → 1.50）です。
A4: 対象年月 | B4: 氏名 | C4: 所属 | D4: 社員番号 | E4: 出勤日数 | F4: 休日出勤日数 | G4: 有休日数 | H4: 欠勤日数 | I4: 総勤務時間(h) | J4: 残業(h) | K4: 深夜(h) | L4: 休日出勤(h) | M4: 要確認(件)
A5: =TEXT(勤怠表!N3,"yyyy/m/d")&"〜"&TEXT(勤怠表!O3,"m/d") -> 2026/11/1〜11/30 | B5: =勤怠表!B5 -> 山田 花子 | C5: =勤怠表!B6 -> 本店 | D5: =勤怠表!B7 -> A-0123 | E5: =勤怠表!A10 -> 19 | F5: =勤怠表!C10 -> 1 | G5: =勤怠表!D10 -> 1 | H5: =勤怠表!E10 -> 0 | I5: =ROUND(勤怠表!F10*24,2) -> 154 | J5: =ROUND(勤怠表!H10*24,2) -> 5.5 | K5: =ROUND(勤怠表!I10*24,2) -> 1.5 | L5: =ROUND(勤怠表!J10*24,2) -> 4.5 | M5: =勤怠表!K10 -> 1

Sheet 使い方
B1: 勤怠表フォーマットの使い方
B2: 小さな道具箱（chaba-take.com）の無料フォーマットです。
B4: 書く人（働く人）
B5: B3・D3・G3 | C5: 対象の年・月・締め日。締め日を「20」にすると、前の月の21日〜その月の20日になります
B6: B5〜B7 | C6: 氏名・所属・社員番号
B7: G5 | C7: 1日の所定労働時間（ふつうは 8:00）。これを超えた分が残業になります
B8: C列（区分） | C8: 出勤・休日・休日出勤・有休・欠勤・特別休暇から選びます
B9: D〜F列 | C9: 出勤・退勤・休憩を「9:00」のように入力。夜勤などで日をまたぐときも、退勤は「2:00」のようにそのまま入れてOK
B10: J列（備考） | C10: 遅刻・早退の理由や、深夜に休憩を取ったことなど
B11: K列（要確認） | C11: 入力もれや休憩不足があると赤字で出ます。出す前に空になっているか確認してね
B13: 受け取る人（確認・給与計算する人）
B14: 上の集計欄 | C14: 出勤日数・有休・欠勤・総勤務時間・残業・深夜・休日出勤の時間が、毎月同じ場所に出ます。下に小数の時間（例：8.50 時間）も出ます
B15: 要確認の件数 | C15: 集計欄の右端に件数が出ます。0件でなければ、K列の赤字の行を本人に確認してください
B16: 承認欄 | C16: 右上の「本人・確認・承認」の枠に、ハンコやサインを入れられます
B17: 集計用シート | C17: 1人分の集計が1行にまとまっています。全員分を1つの一覧にするときは、この行をコピーして「値のみ貼り付け」してね
B18: 形がそろう | C18: 全員が同じフォーマットを使えば、集計欄や集計用シートの位置が毎回同じなので、確認が速くなります
B20: 気をつけること
B21: 残業の計算 | C21: 1日の所定時間を超えた分だけを残業にしています。週40時間を超えた分、変形労働時間制、フレックスなどは自動では計算しません
B22: 深夜の計算 | C22: 22:00〜5:00に働いた時間を、休憩を差し引かずに出しています
B23: 休憩のチェック | C23: 勤務時間が6時間を超えて休憩45分未満、8時間を超えて休憩1時間未満のときに注意が出ます（労働基準法の目安）
B24: 祝日 | C24: 自動では判定しません。区分を「休日」にしてください
B25: 見本の内容 | C25: 最初から入っている名前や時刻は見本です。上書きして使ってね
B26: 計算のセル | C26: 日付・曜日・勤務時間・残業・深夜・要確認・集計欄には数式が入っています。上書きしないでね
B27: 印刷・PDF | C27: A4縦1枚に収まるように設定済みです。「ファイル」→「エクスポート」または「印刷」からPDFにできます
B28: 対応ソフト | C28: Excel 2016以降・Microsoft 365・Googleスプレッドシートで動作します。マクロは入っていません
