Workbook
Name シフト記号: OFFSET(設定!$A$5,0,0,MAX(1,COUNTA(設定!$A$5:$A$16)),1)

Sheet シフト表
A1: シ フ ト 表
A3: 対象 | B3: 2026 | E3: 11 | H3: 店舗・部署 | K3: 小さな道具箱 本店 | U3: 作成者 | X3: 山田 花子 | AC3: 作成日 | AF3: 46320
A4: =IF(設定!A5="","",設定!A5&"："&設定!B5&IF(設定!C5="",""," "&TEXT(設定!C5,"h:mm")&"-"&TEXT(設定!D5,"h:mm")))&" "&IF(設定!A6="","",設定!A6&"："&設定!B6&IF(設定!C6="",""," "&TEXT(設定!C6,"h:mm")&"-"&TEXT(設定!D6,"h:mm")))&" "&IF(設定!A7="","",設定!A7&"："&設定!B7&IF(設定!C7="",""," "&TEXT(設定!C7,"h:mm")&"-"&TEXT(設定!D7,"h:mm")))&" "&IF(設定!A8="","",設定!A8&"："&設定!B8&IF(設定!C8="",""," "&TEXT(設定!C8,"h:mm")&"-"&TEXT(設定!D8,"h:mm")))&" "&IF(設定!A9="","",設定!A9&"："&設定!B9&IF(設定!C9="",""," "&TEXT(設定!C9,"h:mm")&"-"&TEXT(設定!D9,"h:mm")))&" "&IF(設定!A10="","",設定!A10&"："&設定!B10&IF(設定!C10="",""," "&TEXT(設定!C10,"h:mm")&"-"&TEXT(設定!D10,"h:mm")))
A6: 日付 | B6: =IF(1>DAY(EOMONTH(DATE($B$3,$E$3,1),0)),"",DATE($B$3,$E$3,1)) | C6: =IF(2>DAY(EOMONTH(DATE($B$3,$E$3,1),0)),"",DATE($B$3,$E$3,2)) | D6: =IF(3>DAY(EOMONTH(DATE($B$3,$E$3,1),0)),"",DATE($B$3,$E$3,3)) | E6: =IF(4>DAY(EOMONTH(DATE($B$3,$E$3,1),0)),"",DATE($B$3,$E$3,4)) | F6: =IF(5>DAY(EOMONTH(DATE($B$3,$E$3,1),0)),"",DATE($B$3,$E$3,5)) | G6: =IF(6>DAY(EOMONTH(DATE($B$3,$E$3,1),0)),"",DATE($B$3,$E$3,6)) | H6: =IF(7>DAY(EOMONTH(DATE($B$3,$E$3,1),0)),"",DATE($B$3,$E$3,7)) | I6: =IF(8>DAY(EOMONTH(DATE($B$3,$E$3,1),0)),"",DATE($B$3,$E$3,8)) | J6: =IF(9>DAY(EOMONTH(DATE($B$3,$E$3,1),0)),"",DATE($B$3,$E$3,9)) | K6: =IF(10>DAY(EOMONTH(DATE($B$3,$E$3,1),0)),"",DATE($B$3,$E$3,10)) | L6: =IF(11>DAY(EOMONTH(DATE($B$3,$E$3,1),0)),"",DATE($B$3,$E$3,11)) | M6: =IF(12>DAY(EOMONTH(DATE($B$3,$E$3,1),0)),"",DATE($B$3,$E$3,12)) | N6: =IF(13>DAY(EOMONTH(DATE($B$3,$E$3,1),0)),"",DATE($B$3,$E$3,13)) | O6: =IF(14>DAY(EOMONTH(DATE($B$3,$E$3,1),0)),"",DATE($B$3,$E$3,14)) | P6: =IF(15>DAY(EOMONTH(DATE($B$3,$E$3,1),0)),"",DATE($B$3,$E$3,15)) | Q6: =IF(16>DAY(EOMONTH(DATE($B$3,$E$3,1),0)),"",DATE($B$3,$E$3,16)) | R6: =IF(17>DAY(EOMONTH(DATE($B$3,$E$3,1),0)),"",DATE($B$3,$E$3,17)) | S6: =IF(18>DAY(EOMONTH(DATE($B$3,$E$3,1),0)),"",DATE($B$3,$E$3,18)) | T6: =IF(19>DAY(EOMONTH(DATE($B$3,$E$3,1),0)),"",DATE($B$3,$E$3,19)) | U6: =IF(20>DAY(EOMONTH(DATE($B$3,$E$3,1),0)),"",DATE($B$3,$E$3,20)) | V6: =IF(21>DAY(EOMONTH(DATE($B$3,$E$3,1),0)),"",DATE($B$3,$E$3,21)) | W6: =IF(22>DAY(EOMONTH(DATE($B$3,$E$3,1),0)),"",DATE($B$3,$E$3,22)) | X6: =IF(23>DAY(EOMONTH(DATE($B$3,$E$3,1),0)),"",DATE($B$3,$E$3,23)) | Y6: =IF(24>DAY(EOMONTH(DATE($B$3,$E$3,1),0)),"",DATE($B$3,$E$3,24)) | Z6: =IF(25>DAY(EOMONTH(DATE($B$3,$E$3,1),0)),"",DATE($B$3,$E$3,25)) | AA6: =IF(26>DAY(EOMONTH(DATE($B$3,$E$3,1),0)),"",DATE($B$3,$E$3,26)) | AB6: =IF(27>DAY(EOMONTH(DATE($B$3,$E$3,1),0)),"",DATE($B$3,$E$3,27)) | AC6: =IF(28>DAY(EOMONTH(DATE($B$3,$E$3,1),0)),"",DATE($B$3,$E$3,28)) | AD6: =IF(29>DAY(EOMONTH(DATE($B$3,$E$3,1),0)),"",DATE($B$3,$E$3,29)) | AE6: =IF(30>DAY(EOMONTH(DATE($B$3,$E$3,1),0)),"",DATE($B$3,$E$3,30)) | AF6: =IF(31>DAY(EOMONTH(DATE($B$3,$E$3,1),0)),"",DATE($B$3,$E$3,31)) | AG6: 出勤 日数 | AH6: 休み | AI6: 勤務 時間 | AJ6: 確認
A7: 曜日 | B7: =IF(B6="","",MID("日月火水木金土",WEEKDAY(B6),1)) | C7: =IF(C6="","",MID("日月火水木金土",WEEKDAY(C6),1)) | D7: =IF(D6="","",MID("日月火水木金土",WEEKDAY(D6),1)) | E7: =IF(E6="","",MID("日月火水木金土",WEEKDAY(E6),1)) | F7: =IF(F6="","",MID("日月火水木金土",WEEKDAY(F6),1)) | G7: =IF(G6="","",MID("日月火水木金土",WEEKDAY(G6),1)) | H7: =IF(H6="","",MID("日月火水木金土",WEEKDAY(H6),1)) | I7: =IF(I6="","",MID("日月火水木金土",WEEKDAY(I6),1)) | ... AF7: =IF(AF6="","",MID("日月火水木金土",WEEKDAY(AF6),1))
A8: 山田 花子 | B8: 早 | C8: 早 | D8: 休 | E8: 早 | F8: 早 | G8: 遅 | H8: 休 | I8: 通 | J8: 早 | K8: 早 | L8: 休 | M8: 遅 | N8: 遅 | O8: 早 | P8: 休 | Q8: 早 | R8: 早 | S8: 休 | T8: 早 | U8: 早 | V8: 遅 | W8: 休 | X8: 通 | Y8: 早 | Z8: 早 | AA8: 休 | AB8: 遅 | AC8: 遅 | AD8: 早 | AE8: 休 | AG8: =IF(COUNTA(B8:AF8)=0,"",SUMPRODUCT(COUNTIF(B8:AF8,設定!$A$5:$A$16)*(設定!$G$5:$G$16="出勤")*(設定!$A$5:$A$16<>""))) | AH8: =IF(COUNTA(B8:AF8)=0,"",SUMPRODUCT(COUNTIF(B8:AF8,設定!$A$5:$A$16)*(設定!$G$5:$G$16="休み")*(設定!$A$5:$A$16<>""))) | AI8: =IF(COUNTA(B8:AF8)=0,"",SUMPRODUCT(COUNTIF(B8:AF8,設定!$A$5:$A$16)*設定!$F$5:$F$16*(設定!$A$5:$A$16<>""))) | AJ8: =IF(COUNTA(B8:AF8)-SUMPRODUCT(COUNTIF(B8:AF8,設定!$A$5:$A$16)*(設定!$A$5:$A$16<>""))>0,"記号を確認","")
A9: 佐藤 一郎 | B9: 遅 | C9: 遅 | D9: 早 | E9: 休 | F9: 遅 | G9: 早 | H9: 遅 | I9: 休 | J9: 遅 | K9: 遅 | L9: 早 | M9: 休 | N9: 遅 | O9: 通 | P9: 遅 | Q9: 休 | R9: 遅 | S9: 早 | T9: 遅 | U9: 休 | V9: 遅 | W9: 遅 | X9: 早 | Y9: 休 | Z9: 遅 | AA9: 通 | AB9: 遅 | AC9: 休 | AD9: 遅 | AE9: 遅 | AG9: =IF(COUNTA(B9:AF9)=0,"",SUMPRODUCT(COUNTIF(B9:AF9,設定!$A$5:$A$16)*(設定!$G$5:$G$16="出勤")*(設定!$A$5:$A$16<>""))) | AH9: =IF(COUNTA(B9:AF9)=0,"",SUMPRODUCT(COUNTIF(B9:AF9,設定!$A$5:$A$16)*(設定!$G$5:$G$16="休み")*(設定!$A$5:$A$16<>""))) | AI9: =IF(COUNTA(B9:AF9)=0,"",SUMPRODUCT(COUNTIF(B9:AF9,設定!$A$5:$A$16)*設定!$F$5:$F$16*(設定!$A$5:$A$16<>""))) | AJ9: =IF(COUNTA(B9:AF9)-SUMPRODUCT(COUNTIF(B9:AF9,設定!$A$5:$A$16)*(設定!$A$5:$A$16<>""))>0,"記号を確認","")
A10: 鈴木 美咲 | B10: 休 | C10: 通 | D10: 遅 | E10: 遅 | F10: 休 | G10: 早 | H10: 早 | I10: 遅 | J10: 休 | K10: 通 | L10: 遅 | M10: 遅 | N10: 休 | O10: 早 | P10: 有 | Q10: 遅 | R10: 休 | S10: 通 | T10: 遅 | U10: 遅 | V10: 休 | W10: 早 | X10: 早 | Y10: 遅 | Z10: 休 | AA10: 通 | AB10: 遅 | AC10: 遅 | AD10: 休 | AE10: 早 | AG10: =IF(COUNTA(B10:AF10)=0,"",SUMPRODUCT(COUNTIF(B10:AF10,設定!$A$5:$A$16)*(設定!$G$5:$G$16="出勤")*(設定!$A$5:$A$16<>""))) | AH10: =IF(COUNTA(B10:AF10)=0,"",SUMPRODUCT(COUNTIF(B10:AF10,設定!$A$5:$A$16)*(設定!$G$5:$G$16="休み")*(設定!$A$5:$A$16<>""))) | AI10: =IF(COUNTA(B10:AF10)=0,"",SUMPRODUCT(COUNTIF(B10:AF10,設定!$A$5:$A$16)*設定!$F$5:$F$16*(設定!$A$5:$A$16<>""))) | AJ10: =IF(COUNTA(B10:AF10)-SUMPRODUCT(COUNTIF(B10:AF10,設定!$A$5:$A$16)*(設定!$A$5:$A$16<>""))>0,"記号を確認","")
A11: 高橋 健太 | B11: 通 | C11: 休 | D11: 午 | E11: 午 | F11: 通 | G11: 休 | H11: 通 | I11: 早 | J11: 通 | K11: 休 | L11: 午 | M11: 午 | N11: 通 | O11: 休 | P11: 通 | Q11: 早 | R11: 通 | S11: 休 | T11: 午 | U11: 午 | V11: 通 | W11: 休 | X11: 通 | Y11: 早 | Z11: 通 | AA11: 休 | AB11: 午 | AC11: 午 | AD11: 通 | AE11: 休 | AG11: =IF(COUNTA(B11:AF11)=0,"",SUMPRODUCT(COUNTIF(B11:AF11,設定!$A$5:$A$16)*(設定!$G$5:$G$16="出勤")*(設定!$A$5:$A$16<>""))) | AH11: =IF(COUNTA(B11:AF11)=0,"",SUMPRODUCT(COUNTIF(B11:AF11,設定!$A$5:$A$16)*(設定!$G$5:$G$16="休み")*(設定!$A$5:$A$16<>""))) | AI11: =IF(COUNTA(B11:AF11)=0,"",SUMPRODUCT(COUNTIF(B11:AF11,設定!$A$5:$A$16)*設定!$F$5:$F$16*(設定!$A$5:$A$16<>""))) | AJ11: =IF(COUNTA(B11:AF11)-SUMPRODUCT(COUNTIF(B11:AF11,設定!$A$5:$A$16)*(設定!$A$5:$A$16<>""))>0,"記号を確認","")
A12: 田中 さくら | B12: 早 | C12: 午 | D12: 通 | E12: 休 | F12: 早 | G12: 休 | H12: 午 | I12: 遅 | J12: 早 | K12: 午 | L12: 通 | M12: 休 | N12: 早 | O12: 休 | P12: 午 | Q12: 遅 | R12: 早 | S12: 午 | T12: 通 | U12: 休 | V12: 早 | W12: 休 | X12: 午 | Y12: 遅 | Z12: 早 | AA12: 午 | AB12: 通 | AC12: 休 | AD12: 早 | AE12: 休 | AG12: =IF(COUNTA(B12:AF12)=0,"",SUMPRODUCT(COUNTIF(B12:AF12,設定!$A$5:$A$16)*(設定!$G$5:$G$16="出勤")*(設定!$A$5:$A$16<>""))) | AH12: =IF(COUNTA(B12:AF12)=0,"",SUMPRODUCT(COUNTIF(B12:AF12,設定!$A$5:$A$16)*(設定!$G$5:$G$16="休み")*(設定!$A$5:$A$16<>""))) | AI12: =IF(COUNTA(B12:AF12)=0,"",SUMPRODUCT(COUNTIF(B12:AF12,設定!$A$5:$A$16)*設定!$F$5:$F$16*(設定!$A$5:$A$16<>""))) | AJ12: =IF(COUNTA(B12:AF12)-SUMPRODUCT(COUNTIF(B12:AF12,設定!$A$5:$A$16)*(設定!$A$5:$A$16<>""))>0,"記号を確認","")
AG13: =IF(COUNTA(B13:AF13)=0,"",SUMPRODUCT(COUNTIF(B13:AF13,設定!$A$5:$A$16)*(設定!$G$5:$G$16="出勤")*(設定!$A$5:$A$16<>""))) | AH13: =IF(COUNTA(B13:AF13)=0,"",SUMPRODUCT(COUNTIF(B13:AF13,設定!$A$5:$A$16)*(設定!$G$5:$G$16="休み")*(設定!$A$5:$A$16<>""))) | AI13: =IF(COUNTA(B13:AF13)=0,"",SUMPRODUCT(COUNTIF(B13:AF13,設定!$A$5:$A$16)*設定!$F$5:$F$16*(設定!$A$5:$A$16<>""))) | AJ13: =IF(COUNTA(B13:AF13)-SUMPRODUCT(COUNTIF(B13:AF13,設定!$A$5:$A$16)*(設定!$A$5:$A$16<>""))>0,"記号を確認","")
AG14: =IF(COUNTA(B14:AF14)=0,"",SUMPRODUCT(COUNTIF(B14:AF14,設定!$A$5:$A$16)*(設定!$G$5:$G$16="出勤")*(設定!$A$5:$A$16<>""))) | AH14: =IF(COUNTA(B14:AF14)=0,"",SUMPRODUCT(COUNTIF(B14:AF14,設定!$A$5:$A$16)*(設定!$G$5:$G$16="休み")*(設定!$A$5:$A$16<>""))) | AI14: =IF(COUNTA(B14:AF14)=0,"",SUMPRODUCT(COUNTIF(B14:AF14,設定!$A$5:$A$16)*設定!$F$5:$F$16*(設定!$A$5:$A$16<>""))) | AJ14: =IF(COUNTA(B14:AF14)-SUMPRODUCT(COUNTIF(B14:AF14,設定!$A$5:$A$16)*(設定!$A$5:$A$16<>""))>0,"記号を確認","")
AG15: =IF(COUNTA(B15:AF15)=0,"",SUMPRODUCT(COUNTIF(B15:AF15,設定!$A$5:$A$16)*(設定!$G$5:$G$16="出勤")*(設定!$A$5:$A$16<>""))) | AH15: =IF(COUNTA(B15:AF15)=0,"",SUMPRODUCT(COUNTIF(B15:AF15,設定!$A$5:$A$16)*(設定!$G$5:$G$16="休み")*(設定!$A$5:$A$16<>""))) | AI15: =IF(COUNTA(B15:AF15)=0,"",SUMPRODUCT(COUNTIF(B15:AF15,設定!$A$5:$A$16)*設定!$F$5:$F$16*(設定!$A$5:$A$16<>""))) | AJ15: =IF(COUNTA(B15:AF15)-SUMPRODUCT(COUNTIF(B15:AF15,設定!$A$5:$A$16)*(設定!$A$5:$A$16<>""))>0,"記号を確認","")
AG16: =IF(COUNTA(B16:AF16)=0,"",SUMPRODUCT(COUNTIF(B16:AF16,設定!$A$5:$A$16)*(設定!$G$5:$G$16="出勤")*(設定!$A$5:$A$16<>""))) | AH16: =IF(COUNTA(B16:AF16)=0,"",SUMPRODUCT(COUNTIF(B16:AF16,設定!$A$5:$A$16)*(設定!$G$5:$G$16="休み")*(設定!$A$5:$A$16<>""))) | AI16: =IF(COUNTA(B16:AF16)=0,"",SUMPRODUCT(COUNTIF(B16:AF16,設定!$A$5:$A$16)*設定!$F$5:$F$16*(設定!$A$5:$A$16<>""))) | AJ16: =IF(COUNTA(B16:AF16)-SUMPRODUCT(COUNTIF(B16:AF16,設定!$A$5:$A$16)*(設定!$A$5:$A$16<>""))>0,"記号を確認","")
AG17: =IF(COUNTA(B17:AF17)=0,"",SUMPRODUCT(COUNTIF(B17:AF17,設定!$A$5:$A$16)*(設定!$G$5:$G$16="出勤")*(設定!$A$5:$A$16<>""))) | AH17: =IF(COUNTA(B17:AF17)=0,"",SUMPRODUCT(COUNTIF(B17:AF17,設定!$A$5:$A$16)*(設定!$G$5:$G$16="休み")*(設定!$A$5:$A$16<>""))) | AI17: =IF(COUNTA(B17:AF17)=0,"",SUMPRODUCT(COUNTIF(B17:AF17,設定!$A$5:$A$16)*設定!$F$5:$F$16*(設定!$A$5:$A$16<>""))) | AJ17: =IF(COUNTA(B17:AF17)-SUMPRODUCT(COUNTIF(B17:AF17,設定!$A$5:$A$16)*(設定!$A$5:$A$16<>""))>0,"記号を確認","")
AG18: =IF(COUNTA(B18:AF18)=0,"",SUMPRODUCT(COUNTIF(B18:AF18,設定!$A$5:$A$16)*(設定!$G$5:$G$16="出勤")*(設定!$A$5:$A$16<>""))) | AH18: =IF(COUNTA(B18:AF18)=0,"",SUMPRODUCT(COUNTIF(B18:AF18,設定!$A$5:$A$16)*(設定!$G$5:$G$16="休み")*(設定!$A$5:$A$16<>""))) | AI18: =IF(COUNTA(B18:AF18)=0,"",SUMPRODUCT(COUNTIF(B18:AF18,設定!$A$5:$A$16)*設定!$F$5:$F$16*(設定!$A$5:$A$16<>""))) | AJ18: =IF(COUNTA(B18:AF18)-SUMPRODUCT(COUNTIF(B18:AF18,設定!$A$5:$A$16)*(設定!$A$5:$A$16<>""))>0,"記号を確認","")
AG19: =IF(COUNTA(B19:AF19)=0,"",SUMPRODUCT(COUNTIF(B19:AF19,設定!$A$5:$A$16)*(設定!$G$5:$G$16="出勤")*(設定!$A$5:$A$16<>""))) | AH19: =IF(COUNTA(B19:AF19)=0,"",SUMPRODUCT(COUNTIF(B19:AF19,設定!$A$5:$A$16)*(設定!$G$5:$G$16="休み")*(設定!$A$5:$A$16<>""))) | AI19: =IF(COUNTA(B19:AF19)=0,"",SUMPRODUCT(COUNTIF(B19:AF19,設定!$A$5:$A$16)*設定!$F$5:$F$16*(設定!$A$5:$A$16<>""))) | AJ19: =IF(COUNTA(B19:AF19)-SUMPRODUCT(COUNTIF(B19:AF19,設定!$A$5:$A$16)*(設定!$A$5:$A$16<>""))>0,"記号を確認","")
AG20: =IF(COUNTA(B20:AF20)=0,"",SUMPRODUCT(COUNTIF(B20:AF20,設定!$A$5:$A$16)*(設定!$G$5:$G$16="出勤")*(設定!$A$5:$A$16<>""))) | AH20: =IF(COUNTA(B20:AF20)=0,"",SUMPRODUCT(COUNTIF(B20:AF20,設定!$A$5:$A$16)*(設定!$G$5:$G$16="休み")*(設定!$A$5:$A$16<>""))) | AI20: =IF(COUNTA(B20:AF20)=0,"",SUMPRODUCT(COUNTIF(B20:AF20,設定!$A$5:$A$16)*設定!$F$5:$F$16*(設定!$A$5:$A$16<>""))) | AJ20: =IF(COUNTA(B20:AF20)-SUMPRODUCT(COUNTIF(B20:AF20,設定!$A$5:$A$16)*(設定!$A$5:$A$16<>""))>0,"記号を確認","")
AG21: =IF(COUNTA(B21:AF21)=0,"",SUMPRODUCT(COUNTIF(B21:AF21,設定!$A$5:$A$16)*(設定!$G$5:$G$16="出勤")*(設定!$A$5:$A$16<>""))) | AH21: =IF(COUNTA(B21:AF21)=0,"",SUMPRODUCT(COUNTIF(B21:AF21,設定!$A$5:$A$16)*(設定!$G$5:$G$16="休み")*(設定!$A$5:$A$16<>""))) | AI21: =IF(COUNTA(B21:AF21)=0,"",SUMPRODUCT(COUNTIF(B21:AF21,設定!$A$5:$A$16)*設定!$F$5:$F$16*(設定!$A$5:$A$16<>""))) | AJ21: =IF(COUNTA(B21:AF21)-SUMPRODUCT(COUNTIF(B21:AF21,設定!$A$5:$A$16)*(設定!$A$5:$A$16<>""))>0,"記号を確認","")
AG22: =IF(COUNTA(B22:AF22)=0,"",SUMPRODUCT(COUNTIF(B22:AF22,設定!$A$5:$A$16)*(設定!$G$5:$G$16="出勤")*(設定!$A$5:$A$16<>""))) | AH22: =IF(COUNTA(B22:AF22)=0,"",SUMPRODUCT(COUNTIF(B22:AF22,設定!$A$5:$A$16)*(設定!$G$5:$G$16="休み")*(設定!$A$5:$A$16<>""))) | AI22: =IF(COUNTA(B22:AF22)=0,"",SUMPRODUCT(COUNTIF(B22:AF22,設定!$A$5:$A$16)*設定!$F$5:$F$16*(設定!$A$5:$A$16<>""))) | AJ22: =IF(COUNTA(B22:AF22)-SUMPRODUCT(COUNTIF(B22:AF22,設定!$A$5:$A$16)*(設定!$A$5:$A$16<>""))>0,"記号を確認","")
A23: 出勤人数 | B23: =IF(B$6="","",SUMPRODUCT(COUNTIF(B8:B22,設定!$A$5:$A$16)*(設定!$G$5:$G$16="出勤")*(設定!$A$5:$A$16<>""))) | C23: =IF(C$6="","",SUMPRODUCT(COUNTIF(C8:C22,設定!$A$5:$A$16)*(設定!$G$5:$G$16="出勤")*(設定!$A$5:$A$16<>""))) | D23: =IF(D$6="","",SUMPRODUCT(COUNTIF(D8:D22,設定!$A$5:$A$16)*(設定!$G$5:$G$16="出勤")*(設定!$A$5:$A$16<>""))) | E23: =IF(E$6="","",SUMPRODUCT(COUNTIF(E8:E22,設定!$A$5:$A$16)*(設定!$G$5:$G$16="出勤")*(設定!$A$5:$A$16<>""))) | F23: =IF(F$6="","",SUMPRODUCT(COUNTIF(F8:F22,設定!$A$5:$A$16)*(設定!$G$5:$G$16="出勤")*(設定!$A$5:$A$16<>""))) | G23: =IF(G$6="","",SUMPRODUCT(COUNTIF(G8:G22,設定!$A$5:$A$16)*(設定!$G$5:$G$16="出勤")*(設定!$A$5:$A$16<>""))) | H23: =IF(H$6="","",SUMPRODUCT(COUNTIF(H8:H22,設定!$A$5:$A$16)*(設定!$G$5:$G$16="出勤")*(設定!$A$5:$A$16<>""))) | I23: =IF(I$6="","",SUMPRODUCT(COUNTIF(I8:I22,設定!$A$5:$A$16)*(設定!$G$5:$G$16="出勤")*(設定!$A$5:$A$16<>""))) | ... AF23: =IF(AF$6="","",SUMPRODUCT(COUNTIF(AF8:AF22,設定!$A$5:$A$16)*(設定!$G$5:$G$16="出勤")*(設定!$A$5:$A$16<>""))) | AG23: =SUM(AG8:AG22) | AI23: =SUM(AI8:AI22) | AJ23: =IF(COUNTIF(B25:AF25,"<0")=0,"不足なし","不足 "&COUNTIF(B25:AF25,"<0")&" 日")
A24: 必要人数 | B24: 3 | C24: 2 | D24: 2 | E24: 2 | F24: 2 | G24: 2 | H24: 3 | I24: 3 | J24: 2 | K24: 2 | L24: 2 | M24: 2 | N24: 2 | O24: 3 | P24: 3 | Q24: 2 | R24: 2 | S24: 2 | T24: 2 | U24: 2 | V24: 3 | W24: 3 | X24: 2 | Y24: 2 | Z24: 2 | AA24: 2 | AB24: 2 | AC24: 3 | AD24: 3 | AE24: 2
A25: 過不足 | B25: =IF(OR(B$6="",B24=""),"",B23-B24) | C25: =IF(OR(C$6="",C24=""),"",C23-C24) | D25: =IF(OR(D$6="",D24=""),"",D23-D24) | E25: =IF(OR(E$6="",E24=""),"",E23-E24) | F25: =IF(OR(F$6="",F24=""),"",F23-F24) | G25: =IF(OR(G$6="",G24=""),"",G23-G24) | H25: =IF(OR(H$6="",H24=""),"",H23-H24) | I25: =IF(OR(I$6="",I24=""),"",I23-I24) | ... AF25: =IF(OR(AF$6="",AF24=""),"",AF23-AF24)
A26: =IF(設定!A5="","",設定!B5&"の人数") | B26: =IF(OR(B$6="",設定!$A$5=""),"",COUNTIF(B8:B22,設定!$A$5)) | C26: =IF(OR(C$6="",設定!$A$5=""),"",COUNTIF(C8:C22,設定!$A$5)) | D26: =IF(OR(D$6="",設定!$A$5=""),"",COUNTIF(D8:D22,設定!$A$5)) | E26: =IF(OR(E$6="",設定!$A$5=""),"",COUNTIF(E8:E22,設定!$A$5)) | F26: =IF(OR(F$6="",設定!$A$5=""),"",COUNTIF(F8:F22,設定!$A$5)) | G26: =IF(OR(G$6="",設定!$A$5=""),"",COUNTIF(G8:G22,設定!$A$5)) | H26: =IF(OR(H$6="",設定!$A$5=""),"",COUNTIF(H8:H22,設定!$A$5)) | I26: =IF(OR(I$6="",設定!$A$5=""),"",COUNTIF(I8:I22,設定!$A$5)) | ... AF26: =IF(OR(AF$6="",設定!$A$5=""),"",COUNTIF(AF8:AF22,設定!$A$5))
A27: =IF(設定!A6="","",設定!B6&"の人数") | B27: =IF(OR(B$6="",設定!$A$6=""),"",COUNTIF(B8:B22,設定!$A$6)) | C27: =IF(OR(C$6="",設定!$A$6=""),"",COUNTIF(C8:C22,設定!$A$6)) | D27: =IF(OR(D$6="",設定!$A$6=""),"",COUNTIF(D8:D22,設定!$A$6)) | E27: =IF(OR(E$6="",設定!$A$6=""),"",COUNTIF(E8:E22,設定!$A$6)) | F27: =IF(OR(F$6="",設定!$A$6=""),"",COUNTIF(F8:F22,設定!$A$6)) | G27: =IF(OR(G$6="",設定!$A$6=""),"",COUNTIF(G8:G22,設定!$A$6)) | H27: =IF(OR(H$6="",設定!$A$6=""),"",COUNTIF(H8:H22,設定!$A$6)) | I27: =IF(OR(I$6="",設定!$A$6=""),"",COUNTIF(I8:I22,設定!$A$6)) | ... AF27: =IF(OR(AF$6="",設定!$A$6=""),"",COUNTIF(AF8:AF22,設定!$A$6))
A28: =IF(設定!A7="","",設定!B7&"の人数") | B28: =IF(OR(B$6="",設定!$A$7=""),"",COUNTIF(B8:B22,設定!$A$7)) | C28: =IF(OR(C$6="",設定!$A$7=""),"",COUNTIF(C8:C22,設定!$A$7)) | D28: =IF(OR(D$6="",設定!$A$7=""),"",COUNTIF(D8:D22,設定!$A$7)) | E28: =IF(OR(E$6="",設定!$A$7=""),"",COUNTIF(E8:E22,設定!$A$7)) | F28: =IF(OR(F$6="",設定!$A$7=""),"",COUNTIF(F8:F22,設定!$A$7)) | G28: =IF(OR(G$6="",設定!$A$7=""),"",COUNTIF(G8:G22,設定!$A$7)) | H28: =IF(OR(H$6="",設定!$A$7=""),"",COUNTIF(H8:H22,設定!$A$7)) | I28: =IF(OR(I$6="",設定!$A$7=""),"",COUNTIF(I8:I22,設定!$A$7)) | ... AF28: =IF(OR(AF$6="",設定!$A$7=""),"",COUNTIF(AF8:AF22,設定!$A$7))
A30: ※ 土曜は青、日曜は赤で色が付きます。祝日は自動で色が付かないので、必要人数などで調整してください。
A31: ※ 「過不足」がマイナスの日は、必要人数に足りていません（赤で表示されます）。

Sheet 設定
A1: 設定（シフトの記号）
A2: シフト表で使う記号と時間を決めておくシートです。記号や時間は自由に変えられます。空いている行に追加もできます。
A4: 記号 | B4: 名前 | C4: 開始 | D4: 終了 | E4: 休憩 | F4: 実働 | G4: 区分
A5: 早 | B5: 早番 | C5: 0.375 | D5: 0.70833333 | E5: 0.041666667 | F5: =IF(OR(C5="",D5=""),0,MOD(D5-C5,1)-N(E5)) | G5: 出勤
A6: 遅 | B6: 遅番 | C6: 0.54166667 | D6: 0.875 | E6: 0.041666667 | F6: =IF(OR(C6="",D6=""),0,MOD(D6-C6,1)-N(E6)) | G6: 出勤
A7: 通 | B7: 通し | C7: 0.375 | D7: 0.875 | E7: 0.0625 | F7: =IF(OR(C7="",D7=""),0,MOD(D7-C7,1)-N(E7)) | G7: 出勤
A8: 午 | B8: 午前のみ | C8: 0.375 | D8: 0.54166667 | F8: =IF(OR(C8="",D8=""),0,MOD(D8-C8,1)-N(E8)) | G8: 出勤
A9: 休 | B9: 休み | F9: =IF(OR(C9="",D9=""),0,MOD(D9-C9,1)-N(E9)) | G9: 休み
A10: 有 | B10: 有休 | F10: =IF(OR(C10="",D10=""),0,MOD(D10-C10,1)-N(E10)) | G10: 休み
F11: =IF(OR(C11="",D11=""),0,MOD(D11-C11,1)-N(E11))
F12: =IF(OR(C12="",D12=""),0,MOD(D12-C12,1)-N(E12))
F13: =IF(OR(C13="",D13=""),0,MOD(D13-C13,1)-N(E13))
F14: =IF(OR(C14="",D14=""),0,MOD(D14-C14,1)-N(E14))
F15: =IF(OR(C15="",D15=""),0,MOD(D15-C15,1)-N(E15))
F16: =IF(OR(C16="",D16=""),0,MOD(D16-C16,1)-N(E16))
A18: ※ 実働は「終了 − 開始 − 休憩」で自動計算します。夜勤のように日をまたぐときも、終了は「7:00」のようにそのまま入れて大丈夫です。
A19: ※ 記号は上の行から詰めて書いてください（途中に空いた行があると、シフト表のリストに出ないことがあります）。
A20: ※ 記号を変えたときは、シフト表に入っている前の記号も直してください（直さないと「記号を確認」と出ます）。

Sheet 使い方
B1: シフト表フォーマットの使い方
B2: 小さな道具箱（chaba-take.com）の無料フォーマットです。
B4: はじめに（1回だけ）
B5: 設定シート | C5: シフトの記号（早・遅など）と、開始・終了・休憩の時間を決めます。最初から入っている記号は例なので、お店に合わせて変えてください
B6: 区分 | C6: 出勤日数に数える記号は「出勤」、数えない記号（休み・有休など）は「休み」にします
B8: 毎月つかうところ
B9: 年・月 | C9: B3に年、E3に月を入れると、日付と曜日が自動で並びます（月の日数も自動です）
B10: 名前 | C10: A列にスタッフの名前を入れます。15人まで書けます
B11: シフト | C11: 日付の下のマスを選ぶと出るリストから記号を選びます。直接「早」のように入力しても大丈夫です
B12: 必要人数 | C12: その日に必要な人数を入れます。出勤人数との差が「過不足」に出ます
B14: 自動で計算されるところ
B15: 出勤日数・休み | C15: 1人ずつ、1か月の出勤日数と休みの日数を数えます
B16: 勤務時間 | C16: 設定シートの実働時間をもとに、1か月の勤務時間の合計を出します
B17: 出勤人数 | C17: 日ごとに、出勤しているスタッフの人数を数えます。早番・遅番などの人数も下に出ます
B18: 確認 | C18: 設定シートにない記号が入っていると「記号を確認」、人が足りない日があると「不足 ○日」と出ます
B20: ポイント
B21: 見本の内容 | C21: 最初から入っている名前やシフトは見本です。上書きするか、消してから使ってください
B22: 数式は保護済み | C22: 計算のセルはうっかり消えないようにロックしています（パスワードなし）。変えたいときは「校閲」→「シートの保護の解除」で外せます
B23: 翌月も使うとき | C23: シートをコピーして、年・月を変えるだけで使えます
B24: 印刷・PDF | C24: A4横1枚に収まるように設定済みです。「ファイル」→「エクスポート」または「印刷」からPDFにできます
B25: 対応ソフト | C25: Excel 2016以降・Microsoft 365・Googleスプレッドシートで動作します。マクロは入っていません
